BEGIN:VCALENDAR
VERSION:2.0
PRODID:-//Alpha Chi Rho National Fraternity - ECPv6.15.20//NONSGML v1.0//EN
CALSCALE:GREGORIAN
METHOD:PUBLISH
X-ORIGINAL-URL:https://www.alphachirho.org
X-WR-CALDESC:Events for Alpha Chi Rho National Fraternity
REFRESH-INTERVAL;VALUE=DURATION:PT1H
X-Robots-Tag:noindex
X-PUBLISHED-TTL:PT1H
BEGIN:VTIMEZONE
TZID:America/Detroit
BEGIN:DAYLIGHT
TZOFFSETFROM:-0500
TZOFFSETTO:-0400
TZNAME:EDT
DTSTART:20160313T070000
END:DAYLIGHT
BEGIN:STANDARD
TZOFFSETFROM:-0400
TZOFFSETTO:-0500
TZNAME:EST
DTSTART:20161106T060000
END:STANDARD
BEGIN:DAYLIGHT
TZOFFSETFROM:-0500
TZOFFSETTO:-0400
TZNAME:EDT
DTSTART:20170312T070000
END:DAYLIGHT
BEGIN:STANDARD
TZOFFSETFROM:-0400
TZOFFSETTO:-0500
TZNAME:EST
DTSTART:20171105T060000
END:STANDARD
BEGIN:DAYLIGHT
TZOFFSETFROM:-0500
TZOFFSETTO:-0400
TZNAME:EDT
DTSTART:20180311T070000
END:DAYLIGHT
BEGIN:STANDARD
TZOFFSETFROM:-0400
TZOFFSETTO:-0500
TZNAME:EST
DTSTART:20181104T060000
END:STANDARD
BEGIN:DAYLIGHT
TZOFFSETFROM:-0500
TZOFFSETTO:-0400
TZNAME:EDT
DTSTART:20190310T070000
END:DAYLIGHT
BEGIN:STANDARD
TZOFFSETFROM:-0400
TZOFFSETTO:-0500
TZNAME:EST
DTSTART:20191103T060000
END:STANDARD
BEGIN:DAYLIGHT
TZOFFSETFROM:-0500
TZOFFSETTO:-0400
TZNAME:EDT
DTSTART:20200308T070000
END:DAYLIGHT
BEGIN:STANDARD
TZOFFSETFROM:-0400
TZOFFSETTO:-0500
TZNAME:EST
DTSTART:20201101T060000
END:STANDARD
BEGIN:DAYLIGHT
TZOFFSETFROM:-0500
TZOFFSETTO:-0400
TZNAME:EDT
DTSTART:20210314T070000
END:DAYLIGHT
BEGIN:STANDARD
TZOFFSETFROM:-0400
TZOFFSETTO:-0500
TZNAME:EST
DTSTART:20211107T060000
END:STANDARD
END:VTIMEZONE
BEGIN:VEVENT
DTSTART;TZID=America/Detroit:20200920T190000
DTEND;TZID=America/Detroit:20200920T200000
DTSTAMP:20260419T120709
CREATED:20200917T161428Z
LAST-MODIFIED:20200917T161428Z
UID:4820-1600628400-1600632000@www.alphachirho.org
SUMMARY:Love\, Mom & Dad: Turning tragedy into progress
DESCRIPTION:Brothers\, \nThe month of September is Hazing Prevention Month. The North American Interfraternity Conference is sponsoring a free event for all members and advisors on Sunday September 20\, 2020 at 7PM EST. You are highly encouraged to attend as it will help with your Fraternity and Institution accreditation. \nIf you have any questions\, please reach out to axpheadquarters@alphachirho.org. \nCollege students\, you are invited to:\n\nLove\, Mom & Dad:\nTurning tragedy into progress\nSunday\, September 20\, 7:00 p.m. Eastern\n(Zoom & Facebook Live)\n\nThe Anti-Hazing Coalition will host a live nationwide presentation and discussion to kick off  HazingPrevention.Org’s National Hazing Prevention Week on Sunday\, September 20 at 7 p.m. Eastern.\n\nAs many campuses have moved away from in-person experiences this fall\, the AHC wants to ensure students receive hazing prevention education. The AHC parents will present a program streamed live on social media to share their sons’ stories and educate current students about hazing prevention. The program will include Q&A with the parents.\n\nThese families each suffered unimaginable loss as a result of fraternity hazing. They are here to share their stories and to challenge ALL fraternity/sorority members to take up the fight to end hazing now. If we are not actively part of solving this problem\, then we are responsible for its continued persistence. Whether you’ve been hazed\, know that hazing is happening on your campus\, or even if you’ve hazed one of your members in the past\, we must all actively take part in this solving this problem so that no family has to endure this kind of tragedy. Let’s be the generation of fraternity and sorority members who end hazing once and for all.\n\nParents currently scheduled to participate include:\n\n\nDeb Debrick\, her son Dalton died after a hazing incident at Texas Tech University\nSteve and Rae Ann Gruver\, their son Max died after a hazing incident at Louisiana State University\nLianne Kowiak\, her son Harrison died after a hazing incident at Lenoir-Rhyne University\nJim and Evelyn Piazza\, their son Tim died after a hazing incident at Penn State University\nKathleen Wiant\, her son Collin died after a hazing incident at Ohio University\n\n\n\nTHIS IS A FREE VIRTUAL EVENT AND OPEN TO ALL STUDENTS/ADVISORS/COACHES.
URL:https://www.alphachirho.org/event/love-mom-dad-turning-tragedy-into-progress/
CATEGORIES:Upcoming Events
END:VEVENT
BEGIN:VEVENT
DTSTART;TZID=America/Detroit:20200222T100000
DTEND;TZID=America/Detroit:20200222T140000
DTSTAMP:20260419T120709
CREATED:20200211T173727Z
LAST-MODIFIED:20200211T201027Z
UID:4043-1582365600-1582380000@www.alphachirho.org
SUMMARY:Growth Summit
DESCRIPTION:Recruitment Growth Workshop!\nThis Summit is open to any members interested in gaining skills and techniques to enhance their current recruitment efforts. Lunch will be provided. \nThe Summit will be in SYKES Student Union 10B.
URL:https://www.alphachirho.org/event/growth-summit-4/
LOCATION:West Chester University\, 700 S High St.\, West Chester\, PA\, 19382\, United States
CATEGORIES:Upcoming Events
ATTACH;FMTTYPE=image/png:https://www.alphachirho.org/wp-content/uploads/2020/02/Growth-Summit-Feb.png
ORGANIZER;CN="National Office":MAILTO:hq@alphachirho.org
END:VEVENT
BEGIN:VEVENT
DTSTART;TZID=America/Detroit:20200221T180000
DTEND;TZID=America/Detroit:20200221T210000
DTSTAMP:20260419T120709
CREATED:20200211T173859Z
LAST-MODIFIED:20200211T201030Z
UID:4045-1582308000-1582318800@www.alphachirho.org
SUMMARY:Chapter Drive-In
DESCRIPTION:Strategic Planning\, Creating Culture and Setting Goals!\nOur first Chapter Drive-In of the semester is taking place on February 21\, 2020. Any member is encouraged to attend; all you need to do is register! Dinner will be provided. \nThe Drive-In will be in SYKES Student Union Room 210.
URL:https://www.alphachirho.org/event/chapter-drive-in/
LOCATION:West Chester University\, 700 S High St.\, West Chester\, PA\, 19382\, United States
CATEGORIES:Upcoming Events
ATTACH;FMTTYPE=image/png:https://www.alphachirho.org/wp-content/uploads/2020/02/Growth-Summit-2_22.png
ORGANIZER;CN="National Office":MAILTO:hq@alphachirho.org
END:VEVENT
BEGIN:VEVENT
DTSTART;TZID=America/Detroit:20190908T130000
DTEND;TZID=America/Detroit:20190908T170000
DTSTAMP:20260419T120709
CREATED:20190801T170052Z
LAST-MODIFIED:20190801T210043Z
UID:3446-1567947600-1567962000@www.alphachirho.org
SUMMARY:Crows in the Dugout!
DESCRIPTION:Alpha Chi Rho has partnered with the New York Mets to host a Brotherhood event this fall! Based on attendance at this event\, the Fraternity will look to host similar events throughout the year. \nTo purchase your ticket\, please visit https://axp.formstack.com/forms/mets. \nWe hope to see you at the ballpark! \n  \nFrequently Asked Questions \nHow do I get involved with this event? \nThe best way to get involved is to buy a ticket to the game. Then promote the game to your friends\, family\, and community. AXP will post game an ticketing information on social media\, so retweet or share the information that way to your friends and followers! \nHow do I purchase a ticket for the game? \nClick the link below to purchase a ticket. Ticketing information is also sent out via email to area AXPs\, as well as promoted on our social media outlets including Instagram\, Twitter\, and Facebook. \nWho can buy tickets to the event? \nAnyone! This event isn’t just for Crows\, it’s for everyone! The more people that purchase through our link\, the more money we can raise for the local Habitat for Humanity branch. \nWho do I contact if I have any additional questions regarding Brotherhood events? \nYou can contact Melissa Lewis or Nicolas Hewgley at 732-869-1895. Melissa can also be reached at mlewis@alphachirho.org and Nicolas can be reached at nrhewgley@alphachirho.org.
URL:https://www.alphachirho.org/event/crows-in-the-dugout/
LOCATION:Citi Field\, 123-01 Roosevelt Ave.\, Queens\, NY\, 11368\, United States
CATEGORIES:Upcoming Events
ATTACH;FMTTYPE=image/png:https://www.alphachirho.org/wp-content/uploads/2019/07/Crows-in-the-Dugout-e1564585471454.png
ORGANIZER;CN="National Office":MAILTO:hq@alphachirho.org
END:VEVENT
BEGIN:VEVENT
DTSTART;TZID=America/Detroit:20171111T110000
DTEND;TZID=America/Detroit:20171111T170000
DTSTAMP:20260419T120709
CREATED:20171108T200706Z
LAST-MODIFIED:20171110T150119Z
UID:2006-1510398000-1510419600@www.alphachirho.org
SUMMARY:Pi Phi - Cornhole for a Cure
DESCRIPTION:The undergraduate Brothers of Pi Phi (Robert Morris University) would like to invite you to the 3rd Annual “Cornhole for a Cure” event this Saturday\, November 11th at 11 AM in the John Jay Gym (153 Campus Dr\, Moon\, PA 15108).\n\n\nLeading up to the event\, the undergraduate Brothers will be “Freezin’ for a Reason” by camping out on campus at Camp Crow this week to raise awareness and donations towards the American Cancer Society.  At the time of this email\, they have already raised $500 towards their cause.\n\n\nIf you are able to attend and interesting in entering a team\, please contact undergrad Brother Sean Grossman (484-892-1667).  He will be able to provide you with additional details and registration.\n\n\n\nTo donate to their cause\, visit https://www.gofundme.com/alpha-chi-rho-pi-phi-camp-crow or click here.
URL:https://www.alphachirho.org/event/pi-phi-cornhole-for-a-cure/
LOCATION:John Jay Gym\, 153 Campus Drive\, Moon\, PA\, 15108\, United States
CATEGORIES:Upcoming Events
END:VEVENT
END:VCALENDAR